BEGIN:VCALENDAR
VERSION:2.0
PRODID:-//Date iCal//NONSGML kigkonsult.se iCalcreator 2.20.2//
METHOD:PUBLISH
BEGIN:VTIMEZONE
TZID:America/New_York
BEGIN:STANDARD
DTSTART:20251102T020000
TZOFFSETFROM:-0400
TZOFFSETTO:-0500
TZNAME:EST
END:STANDARD
BEGIN:DAYLIGHT
DTSTART:20250309T020000
TZOFFSETFROM:-0500
TZOFFSETTO:-0400
RDATE:20260308T020000
TZNAME:EDT
END:DAYLIGHT
END:VTIMEZONE
BEGIN:VEVENT
UID:calendar.3342.events_uoft_date.0@www.cinema.utoronto.ca
CREATED:20250904T130747Z
DESCRIPTION:\nWhen and Where: \nThursday, September 25, 2025 3:00 pm to 4
 :30 pm \n IN-222E \n I\nis College \n 2 Sussex Avenue, Toronto, ON M5S 1
 J5 \n\nSpeakers \nProf. Cori\n Columpar \n\nDescription: \nAre you thinkin
 g about applying for graduate school? Do you have questions about graduate
  school, different graduate programs, the application process, or anyth
 ing else?    If so, join us for a discussion and Q & A with the Cinema St
 udies Associate Director, Graduate, Prof. Cori\n Columpar and guests. (R
 emote participation is an option; please email gradcinema.studies@utoront
 o.ca for the link.) \n\nContact Information: \n Tony Pi gradcinema.studies
 @utoronto.ca \n2 Sussex Avenue, Toronto, ON M5S 1J5 \n\nCategories \n In
 formation Sessions \n\nAudiences \n Graduate StudentsUndergraduate Student
 s
DTSTART;TZID=America/New_York:20250925T150000
DTEND;TZID=America/New_York:20250925T163000
LAST-MODIFIED:20250905T185053Z
LOCATION:2 Sussex Avenue, Toronto, ON M5S 1J5
SUMMARY:CSI Graduate School Information Session 2025
URL;TYPE=URI:https://www.cinema.utoronto.ca/events/csi-graduate-school-info
 rmation-session-2025
END:VEVENT
END:VCALENDAR
